BEGIN:VCALENDAR
VERSION:2.0
PRODID:-//Jazz Philadelphia - ECPv6.15.20//NONSGML v1.0//EN
CALSCALE:GREGORIAN
METHOD:PUBLISH
X-WR-CALNAME:Jazz Philadelphia
X-ORIGINAL-URL:https://jazzphiladelphia.org
X-WR-CALDESC:Events for Jazz Philadelphia
REFRESH-INTERVAL;VALUE=DURATION:PT1H
X-Robots-Tag:noindex
X-PUBLISHED-TTL:PT1H
BEGIN:VTIMEZONE
TZID:America/New_York
BEGIN:DAYLIGHT
TZOFFSETFROM:-0500
TZOFFSETTO:-0400
TZNAME:EDT
DTSTART:20210314T070000
END:DAYLIGHT
BEGIN:STANDARD
TZOFFSETFROM:-0400
TZOFFSETTO:-0500
TZNAME:EST
DTSTART:20211107T060000
END:STANDARD
BEGIN:DAYLIGHT
TZOFFSETFROM:-0500
TZOFFSETTO:-0400
TZNAME:EDT
DTSTART:20220313T070000
END:DAYLIGHT
BEGIN:STANDARD
TZOFFSETFROM:-0400
TZOFFSETTO:-0500
TZNAME:EST
DTSTART:20221106T060000
END:STANDARD
BEGIN:DAYLIGHT
TZOFFSETFROM:-0500
TZOFFSETTO:-0400
TZNAME:EDT
DTSTART:20230312T070000
END:DAYLIGHT
BEGIN:STANDARD
TZOFFSETFROM:-0400
TZOFFSETTO:-0500
TZNAME:EST
DTSTART:20231105T060000
END:STANDARD
END:VTIMEZONE
BEGIN:VEVENT
DTSTART;TZID=America/New_York:20221210T200000
DTEND;TZID=America/New_York:20221210T210000
DTSTAMP:20260419T101143
CREATED:20221208T171549Z
LAST-MODIFIED:20221208T171550Z
UID:11121-1670702400-1670706000@jazzphiladelphia.org
SUMMARY:Kimmel Campus Presents: Scott Bradlee's Postmodern Jukebox: A Very Postmodern Christmas
DESCRIPTION:Everything old is new again – and vice versa – this holiday season with Scott Bradlee’s Postmodern Jukebox’s vintage-style Christmas celebration! The popular “vintage gone viral” musical collective will present an evening of timeless holiday classics alongside today’s pop hits — all remade in the classic styles that have earned PMJ millions of fans and sold-out concert dates all over the world: 1920s hot jazz\, ’50s doo wop\, ’60s Motown\, and much more. \nOne part celebration of vintage music and culture\, one part “’Saturday Night Live’ for singers”\, a Postmodern Jukebox show is an unforgettable trip back in time that makes Pop Music History. \nAs always\, this retro musical universe will be brought to life by a cast of some of the most exciting voices\, instrumentalists\, and dancers to appear on PMJ’s revered YouTube channel\, for a night of retro chic\, humor\, and showstopping musical performances that the whole family will enjoy. Celebrate the holidays by starting an uplifting new tradition of your own\, and have yourself “A Very Postmodern Christmas. \n“…the super talented ensemble of contemporary-meets-vintage sounds known as Scott Bradlee’s Postmodern Jukebox continues to entertain and enthrall audiences at every stop.” – Broadway World \n“Go see Postmodern Jukebox. Stop whatever you’re doing\, right now\, and go see them!” – MusicInsight.com \n“Scott Bradlee’s project has turned into a worldwide phenomenon in quite a small amount of time\, having sold out shows in more than 60 countries around the world – and rightly so.” – Houston Press
URL:https://jazzphiladelphia.org/event/kimmel-campus-presents-scott-bradlees-postmodern-jukebox-a-very-postmodern-christmas/
LOCATION:Kimmel Cultural Campus\, 300 S Broad St\, Philadelphia\, Pennsylvania\, 19102
CATEGORIES:Featured
ATTACH;FMTTYPE=image/jpeg:https://jazzphiladelphia.org/wp-content/uploads/2022/12/kimmel-christmas.jpeg
END:VEVENT
BEGIN:VEVENT
DTSTART;TZID=America/New_York:20221225T170000
DTEND;TZID=America/New_York:20221225T190000
DTSTAMP:20260419T101143
CREATED:20221218T192057Z
LAST-MODIFIED:20221218T192058Z
UID:11131-1671987600-1671994800@jazzphiladelphia.org
SUMMARY:Jazz Jam session at the Kennett Flash
DESCRIPTION:Join us for the monthly jazz jam session at the Flash. First set is Dave Mattock’s Tap Room Band\, then the stage is open to all jazz musicians\, young and old\, beginners to professional. House band hosts\, and backline is provided\, so just bring your axe. \n\nFree\, but suggested donation of $15
URL:https://jazzphiladelphia.org/event/jazz-jam-session-at-the-kennett-flash/
LOCATION:Kennett Flash\, 102 Sycamore Alley\, Kennett Square\, PA\, 19348\, United States
CATEGORIES:Featured
ATTACH;FMTTYPE=image/webp:https://jazzphiladelphia.org/wp-content/uploads/2022/12/flash.webp
END:VEVENT
END:VCALENDAR