BEGIN:VCALENDAR
VERSION:2.0
PRODID:-//Jazz Philadelphia - ECPv6.15.20//NONSGML v1.0//EN
CALSCALE:GREGORIAN
METHOD:PUBLISH
X-WR-CALNAME:Jazz Philadelphia
X-ORIGINAL-URL:https://jazzphiladelphia.org
X-WR-CALDESC:Events for Jazz Philadelphia
REFRESH-INTERVAL;VALUE=DURATION:PT1H
X-Robots-Tag:noindex
X-PUBLISHED-TTL:PT1H
BEGIN:VTIMEZONE
TZID:America/New_York
BEGIN:DAYLIGHT
TZOFFSETFROM:-0500
TZOFFSETTO:-0400
TZNAME:EDT
DTSTART:20210314T070000
END:DAYLIGHT
BEGIN:STANDARD
TZOFFSETFROM:-0400
TZOFFSETTO:-0500
TZNAME:EST
DTSTART:20211107T060000
END:STANDARD
BEGIN:DAYLIGHT
TZOFFSETFROM:-0500
TZOFFSETTO:-0400
TZNAME:EDT
DTSTART:20220313T070000
END:DAYLIGHT
BEGIN:STANDARD
TZOFFSETFROM:-0400
TZOFFSETTO:-0500
TZNAME:EST
DTSTART:20221106T060000
END:STANDARD
BEGIN:DAYLIGHT
TZOFFSETFROM:-0500
TZOFFSETTO:-0400
TZNAME:EDT
DTSTART:20230312T070000
END:DAYLIGHT
BEGIN:STANDARD
TZOFFSETFROM:-0400
TZOFFSETTO:-0500
TZNAME:EST
DTSTART:20231105T060000
END:STANDARD
END:VTIMEZONE
BEGIN:VEVENT
DTSTART;TZID=America/New_York:20221110T183000
DTEND;TZID=America/New_York:20221110T183000
DTSTAMP:20260419T083112
CREATED:20221108T213041Z
LAST-MODIFIED:20221108T213041Z
UID:11029-1668105000-1668105000@jazzphiladelphia.org
SUMMARY:JAZZ JAM WITH THE IRONMAN TRIO
DESCRIPTION:Admission is FREE! RSVP is not required and does not guarantee entry. To make a reservation and guarantee a seat\, click here or call 215-222-1400. The Lounge is a full-service restaurant & bar that opens at 6pm. \nWorld Cafe Live is a nonprofit independent venue where artistry meets social impact. Every purchase helps support our free music education & community programs. \nCovid Policy: Unless otherwise stated\, World Cafe Live will follow the City of Philadelphia’s current Covid-19 guidelines. \nJazz Jam\nWorld Cafe Live’s long-running Jazz Jam is for musicians and listeners alike. House band The Ironman Trio will start the evening with a few tunes before they invite a rotating lineup of players to the stage. Instrumentalists and vocalists are welcome to sign up and sit in throughout the evening. \nThe Ironman Trio is Francis Gattis on Drums\, Chris Coyle on Bass\, and Marcell Bellinger on Piano.
URL:https://jazzphiladelphia.org/event/jazz-jam-with-the-ironman-trio-2/
LOCATION:World Cafe Live\, 3025 Walnut St.\, Philadelphia\, PA\, 19104\, United States
ATTACH;FMTTYPE=image/jpeg:https://jazzphiladelphia.org/wp-content/uploads/2022/11/Jazz_81851664547388.jpeg
END:VEVENT
BEGIN:VEVENT
DTSTART;TZID=America/New_York:20221112T180000
DTEND;TZID=America/New_York:20221112T200000
DTSTAMP:20260419T083112
CREATED:20221108T213537Z
LAST-MODIFIED:20221108T213645Z
UID:11033-1668276000-1668283200@jazzphiladelphia.org
SUMMARY:A Little Night of Music Concert
DESCRIPTION:Join us for “A Little Night of Music” featuring Dylan Burkett on the viola. A pleasing variety of music will be shared.  Come out for an enjoyable evening.  A free will offering will be received.
URL:https://jazzphiladelphia.org/event/a-little-night-of-music-concert/
LOCATION:Sanctuary of Bethel Hill UMC\, 2000 Bethel Rd\, LANSDALE\, PA\, 19446\, United States
ATTACH;FMTTYPE=image/png:https://jazzphiladelphia.org/wp-content/uploads/2022/11/Screen-Shot-2022-11-08-at-4.36.26-PM.png
END:VEVENT
BEGIN:VEVENT
DTSTART;TZID=America/New_York:20221129T190000
DTEND;TZID=America/New_York:20221129T210000
DTSTAMP:20260419T083112
CREATED:20221108T214048Z
LAST-MODIFIED:20221109T172900Z
UID:11038-1669748400-1669755600@jazzphiladelphia.org
SUMMARY:Jazz Composers & John Swana Ensemble Concert
DESCRIPTION:Jazz Composers Ensemble and John Swana Ensemble concert will be presented live in Caplan Recital Hall on Tuesday\, November 29th at 7:00pm.
URL:https://jazzphiladelphia.org/event/jazz-composers-john-swana-ensemble-concert/
LOCATION:University of the Arts\, Caplan Center for the Performing Arts 211 South Broad Street\, Philadelphia\, PA\, 19125\, United States
CATEGORIES:Featured
ATTACH;FMTTYPE=image/png:https://jazzphiladelphia.org/wp-content/uploads/2022/11/Screen-Shot-2022-11-08-at-4.38.42-PM.png
END:VEVENT
END:VCALENDAR