BEGIN:VCALENDAR
VERSION:2.0
PRODID:-//Jazz Philadelphia - ECPv6.15.20//NONSGML v1.0//EN
CALSCALE:GREGORIAN
METHOD:PUBLISH
X-WR-CALNAME:Jazz Philadelphia
X-ORIGINAL-URL:https://jazzphiladelphia.org
X-WR-CALDESC:Events for Jazz Philadelphia
REFRESH-INTERVAL;VALUE=DURATION:PT1H
X-Robots-Tag:noindex
X-PUBLISHED-TTL:PT1H
BEGIN:VTIMEZONE
TZID:America/New_York
BEGIN:DAYLIGHT
TZOFFSETFROM:-0500
TZOFFSETTO:-0400
TZNAME:EDT
DTSTART:20230312T070000
END:DAYLIGHT
BEGIN:STANDARD
TZOFFSETFROM:-0400
TZOFFSETTO:-0500
TZNAME:EST
DTSTART:20231105T060000
END:STANDARD
BEGIN:DAYLIGHT
TZOFFSETFROM:-0500
TZOFFSETTO:-0400
TZNAME:EDT
DTSTART:20240310T070000
END:DAYLIGHT
BEGIN:STANDARD
TZOFFSETFROM:-0400
TZOFFSETTO:-0500
TZNAME:EST
DTSTART:20241103T060000
END:STANDARD
BEGIN:DAYLIGHT
TZOFFSETFROM:-0500
TZOFFSETTO:-0400
TZNAME:EDT
DTSTART:20250309T070000
END:DAYLIGHT
BEGIN:STANDARD
TZOFFSETFROM:-0400
TZOFFSETTO:-0500
TZNAME:EST
DTSTART:20251102T060000
END:STANDARD
END:VTIMEZONE
BEGIN:VEVENT
DTSTART;VALUE=DATE:20241107
DTEND;VALUE=DATE:20241109
DTSTAMP:20260419T151709
CREATED:20211102T170152Z
LAST-MODIFIED:20241106T204729Z
UID:9039-1730937600-1731110399@jazzphiladelphia.org
SUMMARY:Jazz Summit 2024
DESCRIPTION:Harness the Power of Creativity and Shape the Future of Jazz\nNovember 7-8\, 2024\n11:00 am – 3:30 pm\nREC Philly\n901 Market St Suite #2120\nPhiladelphia\, PA 19107 \nCLICK HERE FOR ALL THE INFO
URL:https://jazzphiladelphia.org/event/jazz-summit-2024/
LOCATION:REC Philly\, 901 Market St Suite #2120\, Philadelphia\, PA\, 19107
CATEGORIES:Featured
ATTACH;FMTTYPE=image/jpeg:https://jazzphiladelphia.org/wp-content/uploads/2024/11/JP-Summit24_Keynote_4-e1730925942916.jpg
END:VEVENT
END:VCALENDAR